BEGIN:VCALENDAR
VERSION:2.0
PRODID:-//wp-events-plugin.com//7.2.3.1//EN
TZID:Europe/Amsterdam
X-WR-TIMEZONE:Europe/Amsterdam
BEGIN:VEVENT
UID:2387@sebakerk.nl
DTSTART;TZID=Europe/Amsterdam:20261004T163000
DTEND;TZID=Europe/Amsterdam:20261004T180000
DTSTAMP:20260422T144719Z
URL:https://sebakerk.nl/activiteit/ds-j-j-hoogerbrug-reguliere-dienst-191/
SUMMARY:ds. J.J. Hoogerbrug - Reguliere dienst
DESCRIPTION:Dienst: Reguliere &lt\;a href=&quot\;http://dienst.Door:" targe
 t="_blank" title="dienst.Door:"&gt\;dienst.Door: ds. J.J. Hoogerbrug.
CATEGORIES:Kerkdienst
LOCATION:Seba-kerk\, Koningin Wilhelminaplein 1\, Krimpen aan den IJssel\, 
 \, 
X-APPLE-STRUCTURED-LOCATION;VALUE=URI;X-ADDRESS=\, ;X-APPLE-RADIUS=100;X-TI
 TLE=Seba-kerk\, Koningin Wilhelminaplein 1\, Krimpen aan den IJssel:geo:0,
 0
END:VEVENT
BEGIN:VTIMEZONE
TZID:Europe/Amsterdam
X-LIC-LOCATION:Europe/Amsterdam
BEGIN:DAYLIGHT
DTSTART:20260329T030000
TZOFFSETFROM:+0100
TZOFFSETTO:+0200
TZNAME:CEST
END:DAYLIGHT
END:VTIMEZONE
END:VCALENDAR